BEGIN:VCALENDAR
VERSION:2.0
PRODID:-//Objective Secured - ECPv6.15.20//NONSGML v1.0//EN
CALSCALE:GREGORIAN
METHOD:PUBLISH
X-ORIGINAL-URL:https://objectivesecured.com.au
X-WR-CALDESC:Events for Objective Secured
REFRESH-INTERVAL;VALUE=DURATION:PT1H
X-Robots-Tag:noindex
X-PUBLISHED-TTL:PT1H
BEGIN:VTIMEZONE
TZID:Asia/Shanghai
BEGIN:STANDARD
TZOFFSETFROM:+0800
TZOFFSETTO:+0800
TZNAME:CST
DTSTART:20170101T000000
END:STANDARD
END:VTIMEZONE
BEGIN:VEVENT
DTSTART;VALUE=DATE:20180922
DTEND;VALUE=DATE:20180925
DTSTAMP:20260425T104238
CREATED:20171207T084415Z
LAST-MODIFIED:20171207T084415Z
UID:3298-1537574400-1537833599@objectivesecured.com.au
SUMMARY:Southern Hemisphere Open 2018
DESCRIPTION:Share this:\n				Share on X (Opens in new window)\n				X\n			\n				Share on Facebook (Opens in new window)\n				Facebook\n			\n				Email a link to a friend (Opens in new window)\n				Email\n			Like this:Like Loading...
URL:https://objectivesecured.com.au/event/southern-hemisphere-open-2018/
LOCATION:Ascot Race Course\, 70 Grandstand Rd\, Ascot\, Western Australia\, 6104\, Australia
CATEGORIES:40k Tournament,AoS Tournament,Bolt Action Tournament,Convention,Warmahordes Tournament
ATTACH;FMTTYPE=image/jpeg:https://objectivesecured.com.au/wp-content/uploads/2016/10/SHO-Low-Res.jpg
ORGANIZER;CN="Objective Secured":MAILTO:obsec@optusnet.com.au
END:VEVENT
END:VCALENDAR