BEGIN:VCALENDAR
VERSION:2.0
PRODID:-//Objective Secured - ECPv6.15.20//NONSGML v1.0//EN
CALSCALE:GREGORIAN
METHOD:PUBLISH
X-WR-CALNAME:Objective Secured
X-ORIGINAL-URL:https://objectivesecured.com.au
X-WR-CALDESC:Events for Objective Secured
REFRESH-INTERVAL;VALUE=DURATION:PT1H
X-Robots-Tag:noindex
X-PUBLISHED-TTL:PT1H
BEGIN:VTIMEZONE
TZID:Asia/Shanghai
BEGIN:STANDARD
TZOFFSETFROM:+0800
TZOFFSETTO:+0800
TZNAME:CST
DTSTART:20180101T000000
END:STANDARD
END:VTIMEZONE
BEGIN:VEVENT
DTSTART;VALUE=DATE:20190406
DTEND;VALUE=DATE:20190407
DTSTAMP:20260425T201000
CREATED:20190207T060104Z
LAST-MODIFIED:20190207T060104Z
UID:5227-1554508800-1554595199@objectivesecured.com.au
SUMMARY:Age of Sigmar
DESCRIPTION:KRAGS is hosting an Age of Sigmar event at Thomas Kelly Pavillion. \nMore information will be available on the KRAGS facebook page closer to the event. \n \n  \nShare this:\n				Share on X (Opens in new window)\n				X\n			\n				Share on Facebook (Opens in new window)\n				Facebook\n			\n				Email a link to a friend (Opens in new window)\n				Email\n			Like this:Like Loading...
URL:https://objectivesecured.com.au/event/age-of-sigmar/
LOCATION:Thomas Kelly Pavilion\, Rowson Place\, Medina\, Western Australia\, 6167\, Australia
ATTACH;FMTTYPE=image/jpeg:https://objectivesecured.com.au/wp-content/uploads/2017/12/KRAGS.jpg
ORGANIZER;CN="KRAGS":MAILTO:krags@live.com.au
END:VEVENT
END:VCALENDAR