BEGIN:VCALENDAR
VERSION:2.0
PRODID:-//Objective Secured - ECPv6.15.20//NONSGML v1.0//EN
CALSCALE:GREGORIAN
METHOD:PUBLISH
X-ORIGINAL-URL:https://objectivesecured.com.au
X-WR-CALDESC:Events for Objective Secured
REFRESH-INTERVAL;VALUE=DURATION:PT1H
X-Robots-Tag:noindex
X-PUBLISHED-TTL:PT1H
BEGIN:VTIMEZONE
TZID:Asia/Shanghai
BEGIN:STANDARD
TZOFFSETFROM:+0800
TZOFFSETTO:+0800
TZNAME:CST
DTSTART:20180101T000000
END:STANDARD
END:VTIMEZONE
BEGIN:VEVENT
DTSTART;VALUE=DATE:20190504
DTEND;VALUE=DATE:20190505
DTSTAMP:20260425T200959
CREATED:20190211T040759Z
LAST-MODIFIED:20190211T040759Z
UID:5252-1556928000-1557014399@objectivesecured.com.au
SUMMARY:Blood Bowl and other events
DESCRIPTION:KRAGS will present a Blood Bowl event. There will be other games represented but at the time of publishing this the other games have not yet been confirmed. Check out the KRAGS Facebook page for more information as it is released. \n \nShare this:\n				Share on X (Opens in new window)\n				X\n			\n				Share on Facebook (Opens in new window)\n				Facebook\n			\n				Email a link to a friend (Opens in new window)\n				Email\n			Like this:Like Loading...
URL:https://objectivesecured.com.au/event/blood-bowl-and-other-events/
LOCATION:Thomas Kelly Pavilion\, Rowson Place\, Medina\, Western Australia\, 6167\, Australia
CATEGORIES:Blood Bowl
ATTACH;FMTTYPE=image/jpeg:https://objectivesecured.com.au/wp-content/uploads/2017/12/KRAGS.jpg
ORGANIZER;CN="KRAGS":MAILTO:krags@live.com.au
END:VEVENT
END:VCALENDAR