BEGIN:VCALENDAR
VERSION:2.0
PRODID:-//Objective Secured - ECPv6.15.20//NONSGML v1.0//EN
CALSCALE:GREGORIAN
METHOD:PUBLISH
X-ORIGINAL-URL:https://objectivesecured.com.au
X-WR-CALDESC:Events for Objective Secured
REFRESH-INTERVAL;VALUE=DURATION:PT1H
X-Robots-Tag:noindex
X-PUBLISHED-TTL:PT1H
BEGIN:VTIMEZONE
TZID:Asia/Shanghai
BEGIN:STANDARD
TZOFFSETFROM:+0800
TZOFFSETTO:+0800
TZNAME:CST
DTSTART:20180101T000000
END:STANDARD
END:VTIMEZONE
BEGIN:VEVENT
DTSTART;VALUE=DATE:20190817
DTEND;VALUE=DATE:20190819
DTSTAMP:20260426T025346
CREATED:20190605T140004Z
LAST-MODIFIED:20190815T022154Z
UID:5993-1566000000-1566172799@objectivesecured.com.au
SUMMARY:WATC - Western Australian Team Challenge 2019
DESCRIPTION:Welcome to the WATC – the Western Australian Team Challenge 2019! \nThe 4th annual WATC! The WATC is a now a TWO DAY event designed to give the WA 40k community a taste for the team events that have proven so popular both at a national and international level. This is a great stepping stone for preparing for these larger events as well! Teams of 6 will fight it out to take away the trophy for the forth annual Team Challenge! \nWe are STRICTLY LIMITED to 16 teams for this years event – don’t wait to get your tickets! We will not be opening any more tickets for teams after the 16 allocated are gone. Patreon members will have the right to purchase one (1) team ticket for their team prior to tickets going on sale to the public. \nVenue and Cost  \nThe WATC is being held on Saturday and Sunday the 17th and 18th of August at the Kelmscott Hall\, 60 River Road Kelmscott. Tickets are $480 per team of 6 (ie $80 per player). Note that tickets are non-refundable but are transferable to another team. Players please note – We will be using $60 from each team ticket to create a prize pool for this years event – to allow us to give prizes for our top teams as well as a few spot prizes across the 2 days – this is in addition to the medals and trophies as usual at our events! \nPlayers Pack \nThe players pack (updated 30/07/19) can be found HERE\, while the mission pack can be picked up HERE \nYou can find the facebook event page HERE to get regular updates and ask questions \nYou can find the final lists for teams HERE \nPlayers please note that these are subject to change as the ETC gets closer and we try and mimic the format. \n\n\n\n\n\nA player does not win on an empty stomach! Pre-Order your lunch both days of WATC 2019 with this handy link. Buffet Style with an assortment of choices including Vegan\, Gluten Free and old fashioned Carnivore. \n\n\n\n\n\nSunday afternoon High Tea! Invite your partner\, special guest or friend down for the end of day 2’s competition to enjoy a High Tea prior to the awards. 2pm-4pm. Enjoy a glass of bubbly\, sweet treats\, tea and more then join the awards ceremony. \n\n\n\n\nShare this:\n				Share on X (Opens in new window)\n				X\n			\n				Share on Facebook (Opens in new window)\n				Facebook\n			\n				Email a link to a friend (Opens in new window)\n				Email\n			Like this:Like Loading...
URL:https://objectivesecured.com.au/event/watc-western-australian-team-challenge-2019/
LOCATION:Kelmscott Hall\, 60 River Rd\, Kelmscott\, Western Australia\, 6111\, Australia
CATEGORIES:40k Tournament
ATTACH;FMTTYPE=image/png:https://objectivesecured.com.au/wp-content/uploads/2017/12/WATC-03-Edit.png
ORGANIZER;CN="Objective Secured":MAILTO:obsec@optusnet.com.au
END:VEVENT
END:VCALENDAR