BEGIN:VCALENDAR
VERSION:2.0
PRODID:-//Objective Secured - ECPv6.15.20//NONSGML v1.0//EN
CALSCALE:GREGORIAN
METHOD:PUBLISH
X-ORIGINAL-URL:https://objectivesecured.com.au
X-WR-CALDESC:Events for Objective Secured
REFRESH-INTERVAL;VALUE=DURATION:PT1H
X-Robots-Tag:noindex
X-PUBLISHED-TTL:PT1H
BEGIN:VTIMEZONE
TZID:Asia/Shanghai
BEGIN:STANDARD
TZOFFSETFROM:+0800
TZOFFSETTO:+0800
TZNAME:CST
DTSTART:20170101T000000
END:STANDARD
END:VTIMEZONE
BEGIN:VEVENT
DTSTART;VALUE=DATE:20191130
DTEND;VALUE=DATE:20191201
DTSTAMP:20260424T064158
CREATED:20190211T050817Z
LAST-MODIFIED:20190211T050817Z
UID:5275-1575072000-1575158399@objectivesecured.com.au
SUMMARY:Champion of KRAGS Finals Day
DESCRIPTION:Players competing in the Champion of KRAGS events will play for the finals in Warhammer 40\,000\, AoS and more \nShare this:\n				Share on X (Opens in new window)\n				X\n			\n				Share on Facebook (Opens in new window)\n				Facebook\n			\n				Email a link to a friend (Opens in new window)\n				Email\n			Like this:Like Loading...
URL:https://objectivesecured.com.au/event/champion-of-krags-finals-day/
LOCATION:Thomas Kelly Pavilion\, Rowson Place\, Medina\, Western Australia\, 6167\, Australia
CATEGORIES:40k Tournament,AoS Tournament,Mixed Tournament
ATTACH;FMTTYPE=image/jpeg:https://objectivesecured.com.au/wp-content/uploads/2017/12/KRAGS.jpg
ORGANIZER;CN="KRAGS":MAILTO:krags@live.com.au
END:VEVENT
BEGIN:VEVENT
DTSTART;VALUE=DATE:20190601
DTEND;VALUE=DATE:20190604
DTSTAMP:20260424T064158
CREATED:20190211T041545Z
LAST-MODIFIED:20190319T132137Z
UID:5254-1559347200-1559606399@objectivesecured.com.au
SUMMARY:Southern Hemisphere Open
DESCRIPTION:Objective Secured is proud to present the third annual Southern Hemisphere Open\, WA’s biggest tabletop gaming expo. \nBringing local\, state\, national and international gamers together for formal tabletop gaming events\, intro and demo games\, CCG\, RPG\, board games\, panels\, workshops\, painting competition and more! \nThis year in a new venue (Claremont Showgrounds) and a new date June 1-3 so we wont clash with the football grand final or the Royal Show we are looking forward to creating a bigger and better event. \nFor more information check out the website \nTo purchase tickets head to Humanitix \nShare this:\n				Share on X (Opens in new window)\n				X\n			\n				Share on Facebook (Opens in new window)\n				Facebook\n			\n				Email a link to a friend (Opens in new window)\n				Email\n			Like this:Like Loading...
URL:https://objectivesecured.com.au/event/southern-hemisphere-open/
LOCATION:Claremont Show Grounds\, 1 Graylands Rd\, Claremont\, Western Australia\, 6010\, Australia
CATEGORIES:30k,40k Tournament,AoS Tournament,Blood Bowl,Bolt Action Tournament,Convention,Horus Heresy,Infinity,Kings of War,Mixed Tournament,Underworlds,Warmahordes Tournament,Workshop,x-wing
ATTACH;FMTTYPE=image/jpeg:https://objectivesecured.com.au/wp-content/uploads/2017/03/SHO-Crop-banner.jpg
ORGANIZER;CN="Objective Secured":MAILTO:obsec@optusnet.com.au
END:VEVENT
BEGIN:VEVENT
DTSTART;TZID=Asia/Shanghai:20190216T083000
DTEND;TZID=Asia/Shanghai:20190216T183000
DTSTAMP:20260424T064158
CREATED:20190207T053754Z
LAST-MODIFIED:20190215T051919Z
UID:5218-1550305800-1550341800@objectivesecured.com.au
SUMMARY:Thunderstruck! 2019 Warhammer Age of Sigmar
DESCRIPTION:Following the success of Beyond’s first Age of Sigmar event\, Thunderstruck! in 2018 we are pleased to announce its return for 2019! \nSaturday February 16th 2019\n0830 to 1830\nBeyond Games and Hobby\nUnit 3E-1 Homemaker Centre\n42 Strickland Street\nBunbury 6230 \nTickets $45 including lunch \nTO Matt Denham \nCheck out their website \n \nShare this:\n				Share on X (Opens in new window)\n				X\n			\n				Share on Facebook (Opens in new window)\n				Facebook\n			\n				Email a link to a friend (Opens in new window)\n				Email\n			Like this:Like Loading...
URL:https://objectivesecured.com.au/event/thunderstruck-2019-warhammer-40000/
LOCATION:Beyond – Games and Hobby\, Homemaker Centre\, Unit 3E\, 1 42 Strickland St\, Bunbury\, Western Australia\, 6230\, Australia
CATEGORIES:AoS Tournament
ATTACH;FMTTYPE=image/jpeg:https://objectivesecured.com.au/wp-content/uploads/2019/02/Beyond-games.jpg
END:VEVENT
BEGIN:VEVENT
DTSTART;VALUE=DATE:20180922
DTEND;VALUE=DATE:20180925
DTSTAMP:20260424T064158
CREATED:20171207T084415Z
LAST-MODIFIED:20171207T084415Z
UID:3298-1537574400-1537833599@objectivesecured.com.au
SUMMARY:Southern Hemisphere Open 2018
DESCRIPTION:Share this:\n				Share on X (Opens in new window)\n				X\n			\n				Share on Facebook (Opens in new window)\n				Facebook\n			\n				Email a link to a friend (Opens in new window)\n				Email\n			Like this:Like Loading...
URL:https://objectivesecured.com.au/event/southern-hemisphere-open-2018/
LOCATION:Ascot Race Course\, 70 Grandstand Rd\, Ascot\, Western Australia\, 6104\, Australia
CATEGORIES:40k Tournament,AoS Tournament,Bolt Action Tournament,Convention,Warmahordes Tournament
ATTACH;FMTTYPE=image/jpeg:https://objectivesecured.com.au/wp-content/uploads/2016/10/SHO-Low-Res.jpg
ORGANIZER;CN="Objective Secured":MAILTO:obsec@optusnet.com.au
END:VEVENT
BEGIN:VEVENT
DTSTART;VALUE=DATE:20180609
DTEND;VALUE=DATE:20180610
DTSTAMP:20260424T064158
CREATED:20171207T084151Z
LAST-MODIFIED:20180607T020523Z
UID:3296-1528502400-1528588799@objectivesecured.com.au
SUMMARY:Mixed Gaming Day - 40k\, AoS and Shadespire!
DESCRIPTION:Obsec turns 3! \nTo celebrate our 3rd anniversary of events\, we are doing a day of our most popular games as well as a newcomer to the fold. \n \nOur first event is “The (Not so Grand) Clash”! \nThis 32 player Warhammer Underworlds event is a chance to try out the Grand Clash format for this awesome new game before we host the first Grand Clash in September at SHO. 5 Rounds of 3 games makes for a full day! \nThe players pack is available HERE \nThis pack is based on the official grand clash format – any issues that you may spot please get in touch! \nTickets can be purchased below \n\n\n\n\n\n \nThe second event for the day is a returning Age of Sigmar event – “Battle Shock 2018”! 2000 points\, 3 games and missions drawn at the start of each round from the Open War deck! with a big hobby component this is a great chance to break out the forces of the realms and do battle! \nThe players pack can be found HERE \nThis event has now been cancelled \n\n \nThe last event for the day sees us host the second annual “War Calls” for Warhammer 40\,000. Using all the most recent FAQ\, Errata and Beta rules published\, War Calls will give players a chance to try these game changes in a competative setting. \nThe players pack can be found HERE \nTickets can be purchased below \n\n\n\n\nShare this:\n				Share on X (Opens in new window)\n				X\n			\n				Share on Facebook (Opens in new window)\n				Facebook\n			\n				Email a link to a friend (Opens in new window)\n				Email\n			Like this:Like Loading...
URL:https://objectivesecured.com.au/event/mixed-gaming-day/
LOCATION:South Perth Community Centre\, South Terrace & Sandgate Street\, South Perth\, Western Australia\, 6151\, Australia
CATEGORIES:40k Tournament,AoS Tournament,Underworlds
ATTACH;FMTTYPE=image/jpeg:https://objectivesecured.com.au/wp-content/uploads/2017/08/Objective_Secured_final_logo-Podcast-new.jpg
ORGANIZER;CN="Objective Secured":MAILTO:obsec@optusnet.com.au
END:VEVENT
BEGIN:VEVENT
DTSTART;VALUE=DATE:20180325
DTEND;VALUE=DATE:20180326
DTSTAMP:20260424T064158
CREATED:20171208T045336Z
LAST-MODIFIED:20171208T045336Z
UID:3306-1521936000-1522022399@objectivesecured.com.au
SUMMARY:KRAGS - Unending Battlelines Age of Sigmar
DESCRIPTION:Share this:\n				Share on X (Opens in new window)\n				X\n			\n				Share on Facebook (Opens in new window)\n				Facebook\n			\n				Email a link to a friend (Opens in new window)\n				Email\n			Like this:Like Loading...
URL:https://objectivesecured.com.au/event/krags-unending-battlelines-age-sigmar/
LOCATION:Thomas Kelly Pavilion\, Rowson Place\, Medina\, Western Australia\, 6167\, Australia
CATEGORIES:AoS Tournament
ATTACH;FMTTYPE=image/jpeg:https://objectivesecured.com.au/wp-content/uploads/2017/12/KRAGS.jpg
ORGANIZER;CN="KRAGS":MAILTO:krags@live.com.au
END:VEVENT
BEGIN:VEVENT
DTSTART;VALUE=DATE:20180211
DTEND;VALUE=DATE:20180212
DTSTAMP:20260424T064158
CREATED:20171207T083426Z
LAST-MODIFIED:20180123T033516Z
UID:3291-1518307200-1518393599@objectivesecured.com.au
SUMMARY:ObSec - Age of Sigmar - 8 Lamentations
DESCRIPTION:Our first Age of Sigmar Event for 2018\, 8 Lamentations is here! 1 day\, 5 games\, 1250 points as well as a special champion of the mortal realms! 8 Lamentations is a great way to get involved in the Age of Sigmar community in WA or to kick off a new force you have been eying off! \nPlayers pack is available HERE (updated 23/1/18) and the Warscrolls for the 8 champions you can choose to add to your force is available HERE! You should also take a look at the ObSec Gamers Bill of Rights which is part of every tournament we host – its available HERE. \nTickets are available below \n\n\n\n\nShare this:\n				Share on X (Opens in new window)\n				X\n			\n				Share on Facebook (Opens in new window)\n				Facebook\n			\n				Email a link to a friend (Opens in new window)\n				Email\n			Like this:Like Loading...
URL:https://objectivesecured.com.au/event/lamentations-age-sigmar/
LOCATION:Manning Community Hall\, 2 Conochie Cres\, Manning\, Western Australia\, 6152\, Australia
CATEGORIES:AoS Tournament
ATTACH;FMTTYPE=image/jpeg:https://objectivesecured.com.au/wp-content/uploads/2016/01/ageofsigmarlg.jpg
ORGANIZER;CN="Objective Secured":MAILTO:obsec@optusnet.com.au
END:VEVENT
END:VCALENDAR