BEGIN:VCALENDAR
VERSION:2.0
PRODID:-//Objective Secured - ECPv6.15.20//NONSGML v1.0//EN
CALSCALE:GREGORIAN
METHOD:PUBLISH
X-WR-CALNAME:Objective Secured
X-ORIGINAL-URL:https://objectivesecured.com.au
X-WR-CALDESC:Events for Objective Secured
REFRESH-INTERVAL;VALUE=DURATION:PT1H
X-Robots-Tag:noindex
X-PUBLISHED-TTL:PT1H
BEGIN:VTIMEZONE
TZID:Asia/Shanghai
BEGIN:STANDARD
TZOFFSETFROM:+0800
TZOFFSETTO:+0800
TZNAME:CST
DTSTART:20170101T000000
END:STANDARD
END:VTIMEZONE
BEGIN:VEVENT
DTSTART;VALUE=DATE:20180316
DTEND;VALUE=DATE:20180319
DTSTAMP:20260425T222050
CREATED:20171207T083731Z
LAST-MODIFIED:20180209T145258Z
UID:3294-1521158400-1521417599@objectivesecured.com.au
SUMMARY:Line Breaker - Albany Warhammer Camp
DESCRIPTION:Warhammer Camp is back for 2018! \nDrive to (mostly!) sunny Albany on Friday afternoon and join us for a night of board games\, casual play games and general frivolity. Saturday the 40k formal tournament will be in full swing with 2000 point games the order of the day (at the request of the locals!). That night sees us relax and more casual games with Sunday being pack up day and the trip home. \nThe Venue is a local scout hall and ticket price includes staying at the dorms on site. You will need to supply your own bedding and towels but you will get a roof over your head and a mattress to sleep on! Its not TOO cold mid march but better to have an extra blanket or the like just incase the night gets cool. \nWe also offer a meal package for the weekend so you can not stress about getting fed – (BYO alcohol though!) \nPlayers pack is available to download HERE. \nTickets for players including the 2 nights stay are here \n\n\n\n\nTickets for non playing attendees including the 2 nights stay are here \n\n\n\n\nOur meal package is also available – it includes Breakfast\, Lunch and Dinner Saturday and Breakfast Sunday. \n\n\n\n\nShare this:\n				Share on X (Opens in new window)\n				X\n			\n				Share on Facebook (Opens in new window)\n				Facebook\n			\n				Email a link to a friend (Opens in new window)\n				Email\n			Like this:Like Loading...
URL:https://objectivesecured.com.au/event/line-breaker-albany-warhammer-camp/
LOCATION:Western Australia
CATEGORIES:40k Tournament
ATTACH;FMTTYPE=image/jpeg:https://objectivesecured.com.au/wp-content/uploads/2017/12/LB-LOGO-2-Copy-JPG.jpg
ORGANIZER;CN="Objective Secured":MAILTO:obsec@optusnet.com.au
END:VEVENT
BEGIN:VEVENT
DTSTART;VALUE=DATE:20180218
DTEND;VALUE=DATE:20180219
DTSTAMP:20260425T222050
CREATED:20171208T045121Z
LAST-MODIFIED:20171208T045121Z
UID:3300-1518912000-1518998399@objectivesecured.com.au
SUMMARY:KRAGS - Unending Battlelines 40k
DESCRIPTION:Share this:\n				Share on X (Opens in new window)\n				X\n			\n				Share on Facebook (Opens in new window)\n				Facebook\n			\n				Email a link to a friend (Opens in new window)\n				Email\n			Like this:Like Loading...
URL:https://objectivesecured.com.au/event/krags-unending-battlelines-40k/
LOCATION:Thomas Kelly Pavilion\, Rowson Place\, Medina\, Western Australia\, 6167\, Australia
CATEGORIES:40k Tournament
ATTACH;FMTTYPE=image/jpeg:https://objectivesecured.com.au/wp-content/uploads/2017/12/KRAGS.jpg
ORGANIZER;CN="KRAGS":MAILTO:krags@live.com.au
END:VEVENT
BEGIN:VEVENT
DTSTART;VALUE=DATE:20180211
DTEND;VALUE=DATE:20180212
DTSTAMP:20260425T222050
CREATED:20171207T083426Z
LAST-MODIFIED:20180123T033516Z
UID:3291-1518307200-1518393599@objectivesecured.com.au
SUMMARY:ObSec - Age of Sigmar - 8 Lamentations
DESCRIPTION:Our first Age of Sigmar Event for 2018\, 8 Lamentations is here! 1 day\, 5 games\, 1250 points as well as a special champion of the mortal realms! 8 Lamentations is a great way to get involved in the Age of Sigmar community in WA or to kick off a new force you have been eying off! \nPlayers pack is available HERE (updated 23/1/18) and the Warscrolls for the 8 champions you can choose to add to your force is available HERE! You should also take a look at the ObSec Gamers Bill of Rights which is part of every tournament we host – its available HERE. \nTickets are available below \n\n\n\n\nShare this:\n				Share on X (Opens in new window)\n				X\n			\n				Share on Facebook (Opens in new window)\n				Facebook\n			\n				Email a link to a friend (Opens in new window)\n				Email\n			Like this:Like Loading...
URL:https://objectivesecured.com.au/event/lamentations-age-sigmar/
LOCATION:Manning Community Hall\, 2 Conochie Cres\, Manning\, Western Australia\, 6152\, Australia
CATEGORIES:AoS Tournament
ATTACH;FMTTYPE=image/jpeg:https://objectivesecured.com.au/wp-content/uploads/2016/01/ageofsigmarlg.jpg
ORGANIZER;CN="Objective Secured":MAILTO:obsec@optusnet.com.au
END:VEVENT
BEGIN:VEVENT
DTSTART;VALUE=DATE:20180120
DTEND;VALUE=DATE:20180121
DTSTAMP:20260425T222050
CREATED:20171208T105418Z
LAST-MODIFIED:20171214T123531Z
UID:3338-1516406400-1516492799@objectivesecured.com.au
SUMMARY:ObSec - Young Bloods 2018
DESCRIPTION:Young Bloods 2018\n \nWith the support of Games Workshop store across the WA region\, Objective Secured is proud to announce Young Bloods 2018! An event specifically for new up and coming players under the age of 18 to come and get a taste of the tournament community. Full Players pack is available HERE. You should also take a look at the ObSec Gamers Bill of Rights which is part of every tournament we host – its available HERE. \nTickets can be purchased below \n\n\n\n\nShare this:\n				Share on X (Opens in new window)\n				X\n			\n				Share on Facebook (Opens in new window)\n				Facebook\n			\n				Email a link to a friend (Opens in new window)\n				Email\n			Like this:Like Loading...
URL:https://objectivesecured.com.au/event/objective-secured-young-bloods-40k/
LOCATION:South Perth Community Centre\, South Terrace & Sandgate Street\, South Perth\, Western Australia\, 6151\, Australia
CATEGORIES:40k Tournament
ATTACH;FMTTYPE=image/png:https://objectivesecured.com.au/wp-content/uploads/2017/12/Recruits.png
ORGANIZER;CN="Objective Secured":MAILTO:obsec@optusnet.com.au
END:VEVENT
BEGIN:VEVENT
DTSTART;VALUE=DATE:20180120
DTEND;VALUE=DATE:20180121
DTSTAMP:20260425T222050
CREATED:20171204T133109Z
LAST-MODIFIED:20180109T043150Z
UID:3265-1516406400-1516492799@objectivesecured.com.au
SUMMARY:ObSec - First Blood
DESCRIPTION:Objective Secured Presents First Blood 2018\n \nFirst Blood is a Warhammer 40\,000 Matched Play event \n1000 Points\, Patrol Detachment only. Full Players pack is available HERE. You should also take a look at the ObSec Gamers Bill of Rights which is part of every tournament we host – its available HERE. \nThe 3rd annual opening event to the Objective Secured Tournament Calendar – First Blood\, is a great opportunity to kick of the 2018 year with a brand new forces in a series of fast and fun games in a relaxed and casual atmosphere. First blood is all about letting new players get familiar with the tournament format with smaller forces and play a number of games over the day. Its a great way to kick start a new army\, add to an existing one or get yourself painting! \nPlayers should expect fun and more casual armies with the focus on hobby and theme being highly important to winning the event. Players will participate in no less than 5 games! over the course of the day. New players are encouraged to come down and join the fun! One of our most well received events of the year\, its one not to miss! Tickets through paypal as follows \n\n\n\n\nShare this:\n				Share on X (Opens in new window)\n				X\n			\n				Share on Facebook (Opens in new window)\n				Facebook\n			\n				Email a link to a friend (Opens in new window)\n				Email\n			Like this:Like Loading...
URL:https://objectivesecured.com.au/event/first-blood-warhammer-40000/
LOCATION:South Perth Community Centre\, South Terrace & Sandgate Street\, South Perth\, Western Australia\, 6151\, Australia
CATEGORIES:40k Tournament
ATTACH;FMTTYPE=image/png:https://objectivesecured.com.au/wp-content/uploads/2018/01/FB-LOGO.png
ORGANIZER;CN="Objective Secured":MAILTO:obsec@optusnet.com.au
END:VEVENT
END:VCALENDAR