BEGIN:VCALENDAR
VERSION:2.0
PRODID:-//Objective Secured - ECPv6.15.20//NONSGML v1.0//EN
CALSCALE:GREGORIAN
METHOD:PUBLISH
X-ORIGINAL-URL:https://objectivesecured.com.au
X-WR-CALDESC:Events for Objective Secured
REFRESH-INTERVAL;VALUE=DURATION:PT1H
X-Robots-Tag:noindex
X-PUBLISHED-TTL:PT1H
BEGIN:VTIMEZONE
TZID:Asia/Shanghai
BEGIN:STANDARD
TZOFFSETFROM:+0800
TZOFFSETTO:+0800
TZNAME:CST
DTSTART:20250101T000000
END:STANDARD
END:VTIMEZONE
BEGIN:VEVENT
DTSTART;VALUE=DATE:20260104
DTEND;VALUE=DATE:20260105
DTSTAMP:20260426T001827
CREATED:20251218T125521Z
LAST-MODIFIED:20251218T125521Z
UID:14592-1767484800-1767571199@objectivesecured.com.au
SUMMARY:ObSec presents Chaotic Descent 2026
DESCRIPTION:This is the first event for Objective Secured 2026 season and we’re kicking things off with a clash that’s anything but orderly. THE CHAOTIC DESCENT. Expect intense engagements\, tactical decision-making\, and plenty of fun games! \nTickets are available HERE \nPlayers pack is available HERE \nShare this:\n				Share on X (Opens in new window)\n				X\n			\n				Share on Facebook (Opens in new window)\n				Facebook\n			\n				Email a link to a friend (Opens in new window)\n				Email\n			Like this:Like Loading...
URL:https://objectivesecured.com.au/event/obsec-presents-chaotic-descent-2026/
LOCATION:Kelmscott Hall\, 60 River Rd\, Kelmscott\, Western Australia\, 6111\, Australia
CATEGORIES:40k Tournament
ATTACH;FMTTYPE=image/jpeg:https://objectivesecured.com.au/wp-content/uploads/2025/12/chaotic-dscent.jpg
ORGANIZER;CN="Objective Secured":MAILTO:obsec@optusnet.com.au
END:VEVENT
BEGIN:VEVENT
DTSTART;VALUE=DATE:20260315
DTEND;VALUE=DATE:20260316
DTSTAMP:20260426T001827
CREATED:20260107T063130Z
LAST-MODIFIED:20260107T063130Z
UID:14713-1773532800-1773619199@objectivesecured.com.au
SUMMARY:Obsec presents\, The Triumvirate - WH40k Trios 2026
DESCRIPTION:Welcome to the Triumvirate team event! \nThe Triumvirate is an event we are very excited about. Teams of 3 with specific limits on codex selection will duke it out in this one-day event. The only thing you need to decide is are you the good\, the bad or the ugly? \nEach team must nominate a player for each of the 3 available faction groups – Imperium\, Chaos and Xenos \nFactions available \nImperium – Adeptus Astartes\, Adeptus Sororitas\, Adeptus Custodes\, Adeptus Mechanicus\, Astra Militarum\, Imperial Knights\, Grey Knights\, Imperial Agents. \nChaos – Heretic Astartes\, Chaos Daemons\, Chaos Knights\, Death Guard\, Thousand Sons\, World Eaters\, Emperors Children. \nXenos – Aeldari\, Drukhari\, Genestealer Cults\, Necrons\, Orks\, T’au\, Tyranids\, Leagues of Votann. \nTicket Price is for a team of 3! \nPlayers pack is available HERE \nTickets are available HERE \nShare this:\n				Share on X (Opens in new window)\n				X\n			\n				Share on Facebook (Opens in new window)\n				Facebook\n			\n				Email a link to a friend (Opens in new window)\n				Email\n			Like this:Like Loading...
URL:https://objectivesecured.com.au/event/obsec-presents-the-triumvirate-wh40k-trios-2026/
LOCATION:Kelmscott Hall\, 60 River Rd\, Kelmscott\, Western Australia\, 6111\, Australia
CATEGORIES:40k Tournament
ATTACH;FMTTYPE=image/jpeg:https://objectivesecured.com.au/wp-content/uploads/2023/12/The-Triumvirate.jpg
ORGANIZER;CN="Objective Secured":MAILTO:obsec@optusnet.com.au
END:VEVENT
BEGIN:VEVENT
DTSTART;VALUE=DATE:20260516
DTEND;VALUE=DATE:20260518
DTSTAMP:20260426T001827
CREATED:20260417T015637Z
LAST-MODIFIED:20260417T015637Z
UID:18518-1778889600-1779062399@objectivesecured.com.au
SUMMARY:War Calls 2026 - our last 10th edition 40k GT and Golden Ticket event!
DESCRIPTION:Our first 2 day GT for 2026 is here with 2 golden tickets to the 2026 WCW in Spain up for grabs! \nTickets are available on Best Coast Pairings HERE \nPlayers pack can be found HERE \n  \n\nWar Calls 40k 2026 has been approved as a Qualifying Event for the 2026 World Championships of Warhammer!\n\n\nWar Calls 40k 2026 has been approved for the following quantities of tickets\, by game system:\n\n\n• Warhammer 40\,000 – 2\n\n\nThis means that our 2 finalists will both get the chance to play the World Champs in 2026!\n\nShare this:\n				Share on X (Opens in new window)\n				X\n			\n				Share on Facebook (Opens in new window)\n				Facebook\n			\n				Email a link to a friend (Opens in new window)\n				Email\n			Like this:Like Loading...
URL:https://objectivesecured.com.au/event/warcalls2026-40kgt-goldenticket/
LOCATION:Kelmscott Hall\, 60 River Rd\, Kelmscott\, Western Australia\, 6111\, Australia
CATEGORIES:40k Tournament
ATTACH;FMTTYPE=image/png:https://objectivesecured.com.au/wp-content/uploads/2021/01/War-Calls.png
ORGANIZER;CN="Objective Secured":MAILTO:obsec@optusnet.com.au
END:VEVENT
END:VCALENDAR