BEGIN:VCALENDAR
VERSION:2.0
PRODID:-//Objective Secured - ECPv6.15.20//NONSGML v1.0//EN
CALSCALE:GREGORIAN
METHOD:PUBLISH
X-WR-CALNAME:Objective Secured
X-ORIGINAL-URL:https://objectivesecured.com.au
X-WR-CALDESC:Events for Objective Secured
REFRESH-INTERVAL;VALUE=DURATION:PT1H
X-Robots-Tag:noindex
X-PUBLISHED-TTL:PT1H
BEGIN:VTIMEZONE
TZID:Asia/Shanghai
BEGIN:STANDARD
TZOFFSETFROM:+0800
TZOFFSETTO:+0800
TZNAME:CST
DTSTART:20180101T000000
END:STANDARD
END:VTIMEZONE
BEGIN:VEVENT
DTSTART;VALUE=DATE:20191027
DTEND;VALUE=DATE:20191028
DTSTAMP:20260426T042737
CREATED:20190902T080936Z
LAST-MODIFIED:20191001T054328Z
UID:6326-1572134400-1572220799@objectivesecured.com.au
SUMMARY:Mixed Gaming Day - Doubles 40k\, Warmachine and More!
DESCRIPTION:A full day of gaming including the Ob Sec Mixed Doubles 40k event plus Warmachine and more! \nLets kick things off with Mixed Doubles Warhammer 40\,000! \n \nIts back again for 2019 and with a new year comes new tweaks and missions. MIXED DOUBLES is back for 2019 – the newly revised players pack is available for download HERE. Tickets for the event can be picked up below. \nPLEASE NOTE THE DATE FOR THIS EVENT HAD CHANGED TO SUNDAY 27th OCTOBER 2019 \n\n\n\n\n\nOur next event for the Mixed Gaming day is Warmachine & Hordes! \n \nSteamroller 2019 is out and we are keen to give it a try. 75 points per player\, 60 min clocks and missions randomised just prior to the round from the pack is the order of the day. Ideally we will play 4 rounds (matched with the 40k event schedule but that will be pending players. Round 1 will start at 8.30 am. \nDoors open 8am\, 60 River Street Kelmscott. The full steamroller 2019 pack can be found HERE. \nTickets are available below \n\n\n\n\n\nOur third event for the Mixed Gaming day is Bolt Action! \nPart 2 of Duelling Aces is here! We are so pleased to be working with Dan Newton in hosting the next part of this Bolt Action event – You can get the players pack HERE if you dont have it already. \nPlease get in touch with Dan (via the Bolt Action WA page HERE) as well as purchasing your ticket to confirm your spot and faction. Strictly limited spots (5 Axis and 5 Allied teams) \nTickets are available here \n\n\n\n\n  \nShare this:\n				Share on X (Opens in new window)\n				X\n			\n				Share on Facebook (Opens in new window)\n				Facebook\n			\n				Email a link to a friend (Opens in new window)\n				Email\n			Like this:Like Loading...
URL:https://objectivesecured.com.au/event/mixed-gaming-day-doubles-40k-warmachine-and-more/
LOCATION:Kelmscott Hall\, 60 River Rd\, Kelmscott\, Western Australia\, 6111\, Australia
CATEGORIES:40k Tournament,Warmahordes Tournament
ATTACH;FMTTYPE=image/png:https://objectivesecured.com.au/wp-content/uploads/2016/06/ObSec-Target.png
ORGANIZER;CN="Objective Secured":MAILTO:obsec@optusnet.com.au
END:VEVENT
END:VCALENDAR