BEGIN:VCALENDAR
VERSION:2.0
PRODID:-//Objective Secured - ECPv6.15.20//NONSGML v1.0//EN
CALSCALE:GREGORIAN
METHOD:PUBLISH
X-WR-CALNAME:Objective Secured
X-ORIGINAL-URL:https://objectivesecured.com.au
X-WR-CALDESC:Events for Objective Secured
REFRESH-INTERVAL;VALUE=DURATION:PT1H
X-Robots-Tag:noindex
X-PUBLISHED-TTL:PT1H
BEGIN:VTIMEZONE
TZID:Asia/Shanghai
BEGIN:STANDARD
TZOFFSETFROM:+0800
TZOFFSETTO:+0800
TZNAME:CST
DTSTART:20230101T000000
END:STANDARD
END:VTIMEZONE
BEGIN:VEVENT
DTSTART;VALUE=DATE:20240310
DTEND;VALUE=DATE:20240311
DTSTAMP:20260425T232001
CREATED:20240208T015949Z
LAST-MODIFIED:20240208T015949Z
UID:12338-1710028800-1710115199@objectivesecured.com.au
SUMMARY:First Blood 2024
DESCRIPTION:First Blood 2024 is our annual 1000 ‘intro’ style event aimed at getting 4 smaller games in 1 day with fun and new armies for the new year. Incursion Size games with the rule of 2 means we usually get fun and interesting builds and players are encouraged to be more theme based than super competative. \nPlayers Pack can be found HERE \nTickets can be purchased via registering in Best Coast Pairings HERE \nWe hope to see you there! \nShare this:\n				Share on X (Opens in new window)\n				X\n			\n				Share on Facebook (Opens in new window)\n				Facebook\n			\n				Email a link to a friend (Opens in new window)\n				Email\n			Like this:Like Loading...
URL:https://objectivesecured.com.au/event/first-blood-2024/
LOCATION:Kelmscott Hall\, 60 River Rd\, Kelmscott\, Western Australia\, 6111\, Australia
CATEGORIES:40k Tournament
ATTACH;FMTTYPE=image/png:https://objectivesecured.com.au/wp-content/uploads/2019/04/FB-LOGO.png
ORGANIZER;CN="Objective Secured":MAILTO:obsec@optusnet.com.au
END:VEVENT
END:VCALENDAR