BEGIN:VCALENDAR
VERSION:2.0
PRODID:-//Objective Secured - ECPv6.15.20//NONSGML v1.0//EN
CALSCALE:GREGORIAN
METHOD:PUBLISH
X-ORIGINAL-URL:https://objectivesecured.com.au
X-WR-CALDESC:Events for Objective Secured
REFRESH-INTERVAL;VALUE=DURATION:PT1H
X-Robots-Tag:noindex
X-PUBLISHED-TTL:PT1H
BEGIN:VTIMEZONE
TZID:Asia/Shanghai
BEGIN:STANDARD
TZOFFSETFROM:+0800
TZOFFSETTO:+0800
TZNAME:CST
DTSTART:20240101T000000
END:STANDARD
END:VTIMEZONE
BEGIN:VEVENT
DTSTART;VALUE=DATE:20251101
DTEND;VALUE=DATE:20251102
DTSTAMP:20260424T133909
CREATED:20251022T131126Z
LAST-MODIFIED:20251022T131126Z
UID:14220-1761955200-1762041599@objectivesecured.com.au
SUMMARY:Mixed Doubles 2025
DESCRIPTION:Mixed Doubles 2024 is all about having some fun with friends – 2 players per team\, 1000 points per player and some fun off centre missions – a great way to relax with more casual play before the Perth GT at the end of the year! \nTickets are available from Best Coast Pairings HERE \nPlayers pack including the new missions is HERE \nShare this:\n				Share on X (Opens in new window)\n				X\n			\n				Share on Facebook (Opens in new window)\n				Facebook\n			\n				Email a link to a friend (Opens in new window)\n				Email\n			Like this:Like Loading...
URL:https://objectivesecured.com.au/event/mixed-doubles-2025/
LOCATION:Kelmscott Hall\, 60 River Rd\, Kelmscott\, Western Australia\, 6111\, Australia
CATEGORIES:40k Tournament
ATTACH;FMTTYPE=image/png:https://objectivesecured.com.au/wp-content/uploads/2019/09/Mixed-Doubles-edit.png
ORGANIZER;CN="Objective Secured":MAILTO:obsec@optusnet.com.au
END:VEVENT
BEGIN:VEVENT
DTSTART;VALUE=DATE:20251101
DTEND;VALUE=DATE:20251103
DTSTAMP:20260424T133909
CREATED:20251022T131912Z
LAST-MODIFIED:20251022T131912Z
UID:14222-1761955200-1762127999@objectivesecured.com.au
SUMMARY:Rogue Trader - Singles
DESCRIPTION:Our practice day before Masters 2025! Both events are a 1 day event and you dont have to play both! Test your masters list on the missions from masters! \nSATURDAY \nTickets via Best Coast Pairings \nPlayers pack is HERE \nSUNDAY \nTickets via Best Coast Pairings \nPlayers pack is HERE \nShare this:\n				Share on X (Opens in new window)\n				X\n			\n				Share on Facebook (Opens in new window)\n				Facebook\n			\n				Email a link to a friend (Opens in new window)\n				Email\n			Like this:Like Loading...
URL:https://objectivesecured.com.au/event/rogue-trader-singles/
LOCATION:Kelmscott Hall\, 60 River Rd\, Kelmscott\, Western Australia\, 6111\, Australia
CATEGORIES:40k Tournament
ATTACH;FMTTYPE=image/jpeg:https://objectivesecured.com.au/wp-content/uploads/2025/10/40k-angle-logo.jpeg
ORGANIZER;CN="Objective Secured":MAILTO:obsec@optusnet.com.au
END:VEVENT
BEGIN:VEVENT
DTSTART;VALUE=DATE:20251102
DTEND;VALUE=DATE:20251103
DTSTAMP:20260424T133909
CREATED:20251022T132211Z
LAST-MODIFIED:20251022T132211Z
UID:14225-1762041600-1762127999@objectivesecured.com.au
SUMMARY:Armourdale 2025
DESCRIPTION:Have you ever wanted to bring out a bigger collection of models but never had enough points? Wanted to field your warhound while still being able to actually score objectives? This is the event for you! 3000 points and 48×72 tables in the matched play Onslaught format! \nPlayers pack can be found HERE \nTickets are available here – per team – HERE \nShare this:\n				Share on X (Opens in new window)\n				X\n			\n				Share on Facebook (Opens in new window)\n				Facebook\n			\n				Email a link to a friend (Opens in new window)\n				Email\n			Like this:Like Loading...
URL:https://objectivesecured.com.au/event/armourdale-2025/
LOCATION:Kelmscott Hall\, 60 River Rd\, Kelmscott\, Western Australia\, 6111\, Australia
CATEGORIES:40k Tournament
ATTACH;FMTTYPE=image/jpeg:https://objectivesecured.com.au/wp-content/uploads/2025/10/Titans-Logo.jpeg
ORGANIZER;CN="Objective Secured":MAILTO:obsec@optusnet.com.au
END:VEVENT
BEGIN:VEVENT
DTSTART;VALUE=DATE:20251129
DTEND;VALUE=DATE:20251201
DTSTAMP:20260424T133909
CREATED:20251022T130722Z
LAST-MODIFIED:20251022T130722Z
UID:14218-1764374400-1764547199@objectivesecured.com.au
SUMMARY:11th Annual Perth GT - Masters 40k!
DESCRIPTION:Our 11th anniversary is here! What a journey it has been. Come along for 2 days of 40k and celebrate with us! \nPlayers pack can be found HERE \nTickets can be purchased HERE \nBe sure and read the players pack for all the extra info for this event! \nShare this:\n				Share on X (Opens in new window)\n				X\n			\n				Share on Facebook (Opens in new window)\n				Facebook\n			\n				Email a link to a friend (Opens in new window)\n				Email\n			Like this:Like Loading...
URL:https://objectivesecured.com.au/event/11th-annual-perth-gt-masters-40k-2/
LOCATION:Kelmscott Hall\, 60 River Rd\, Kelmscott\, Western Australia\, 6111\, Australia
CATEGORIES:40k Tournament
ATTACH;FMTTYPE=image/png:https://objectivesecured.com.au/wp-content/uploads/2019/09/Masters-Generic.png
ORGANIZER;CN="Objective Secured":MAILTO:obsec@optusnet.com.au
END:VEVENT
END:VCALENDAR