BEGIN:VCALENDAR
VERSION:2.0
PRODID:-//Objective Secured - ECPv6.15.20//NONSGML v1.0//EN
CALSCALE:GREGORIAN
METHOD:PUBLISH
X-WR-CALNAME:Objective Secured
X-ORIGINAL-URL:https://objectivesecured.com.au
X-WR-CALDESC:Events for Objective Secured
REFRESH-INTERVAL;VALUE=DURATION:PT1H
X-Robots-Tag:noindex
X-PUBLISHED-TTL:PT1H
BEGIN:VTIMEZONE
TZID:Asia/Shanghai
BEGIN:STANDARD
TZOFFSETFROM:+0800
TZOFFSETTO:+0800
TZNAME:CST
DTSTART:20240101T000000
END:STANDARD
END:VTIMEZONE
BEGIN:VEVENT
DTSTART;VALUE=DATE:20250927
DTEND;VALUE=DATE:20250929
DTSTAMP:20260424T182342
CREATED:20250812T151617Z
LAST-MODIFIED:20250812T151830Z
UID:13707-1758931200-1759103999@objectivesecured.com.au
SUMMARY:WATC 2025
DESCRIPTION:Our 10th annual teams event is already sold out! \nPlayers pack is available HERE \nSuper excited for our 10th annual team event and celebrating this milestone in Perth Gaming! \nShare this:\n				Share on X (Opens in new window)\n				X\n			\n				Share on Facebook (Opens in new window)\n				Facebook\n			\n				Email a link to a friend (Opens in new window)\n				Email\n			Like this:Like Loading...
URL:https://objectivesecured.com.au/event/watc-2025/
LOCATION:Kelmscott Hall\, 60 River Rd\, Kelmscott\, Western Australia\, 6111\, Australia
CATEGORIES:40k Tournament
ATTACH;FMTTYPE=image/png:https://objectivesecured.com.au/wp-content/uploads/2025/08/watc_1.png
ORGANIZER;CN="Objective Secured":MAILTO:obsec@optusnet.com.au
END:VEVENT
END:VCALENDAR