BEGIN:VCALENDAR
VERSION:2.0
PRODID:-//Objective Secured - ECPv6.15.20//NONSGML v1.0//EN
CALSCALE:GREGORIAN
METHOD:PUBLISH
X-WR-CALNAME:Objective Secured
X-ORIGINAL-URL:https://objectivesecured.com.au
X-WR-CALDESC:Events for Objective Secured
REFRESH-INTERVAL;VALUE=DURATION:PT1H
X-Robots-Tag:noindex
X-PUBLISHED-TTL:PT1H
BEGIN:VTIMEZONE
TZID:Asia/Shanghai
BEGIN:STANDARD
TZOFFSETFROM:+0800
TZOFFSETTO:+0800
TZNAME:CST
DTSTART:20230101T000000
END:STANDARD
END:VTIMEZONE
BEGIN:VEVENT
DTSTART;VALUE=DATE:20240928
DTEND;VALUE=DATE:20240930
DTSTAMP:20260425T113933
CREATED:20240731T060351Z
LAST-MODIFIED:20240916T082645Z
UID:12574-1727481600-1727654399@objectivesecured.com.au
SUMMARY:WATC 2024
DESCRIPTION:The 9th annual WATC! This event is a TWO DAY event designed to give the WA (or other states!) 40k community a taste for the team events that have proven so popular both at a national and international level. This is a great steppingstone for preparing for these larger events as well! Teams of 6 will fight it out to take away the trophy for the 9th annual Team Challenge! \nPlayers pack can be found HERE \nTeam tickets via Best Coast Pairings HERE \nAlcohol at events: \nAs WATC will be a licenced event we need to comply with liquor licencing regulations. \n\nPlease note that any attendee under the age of 18 must be accompanied by a parent or legal guardian (if there are players who are under 18\, please speak to us. Your parents can nominate your team captain or another responsible member of your team to act as your Responsible Adult. Your parents have to give permission for this person to act as your responsible adult and we like to know in advance if you have someone acting as your responsible adult other than your parent or legal guardian).\nYou will not be able to BYO alcohol.\nPlease ensure you bring your ID with you.\n\nAnyone who wishes to purchase alcohol will be encouraged to practice responsible drinking. Please don’t drink to excess\, don’t drink and drive\, know your limits. \nShare this:\n				Share on X (Opens in new window)\n				X\n			\n				Share on Facebook (Opens in new window)\n				Facebook\n			\n				Email a link to a friend (Opens in new window)\n				Email\n			Like this:Like Loading...
URL:https://objectivesecured.com.au/event/watc-2024/
LOCATION:Kelmscott Hall\, 60 River Rd\, Kelmscott\, Western Australia\, 6111\, Australia
CATEGORIES:40k Tournament
ATTACH;FMTTYPE=image/png:https://objectivesecured.com.au/wp-content/uploads/2017/12/WATC-03-Edit.png
ORGANIZER;CN="Objective Secured":MAILTO:obsec@optusnet.com.au
END:VEVENT
END:VCALENDAR